BEGIN:VCALENDAR
VERSION:2.0
PRODID:-//The Slacky Mile - ECPv6.15.20//NONSGML v1.0//EN
CALSCALE:GREGORIAN
METHOD:PUBLISH
X-WR-CALNAME:The Slacky Mile
X-ORIGINAL-URL:https://slacklinedubai.com
X-WR-CALDESC:Events for The Slacky Mile
REFRESH-INTERVAL;VALUE=DURATION:PT1H
X-Robots-Tag:noindex
X-PUBLISHED-TTL:PT1H
BEGIN:VTIMEZONE
TZID:UTC
BEGIN:STANDARD
TZOFFSETFROM:+0000
TZOFFSETTO:+0000
TZNAME:UTC
DTSTART:20230101T000000
END:STANDARD
END:VTIMEZONE
BEGIN:VEVENT
DTSTART;VALUE=DATE:20240818
DTEND;VALUE=DATE:20240819
DTSTAMP:20260420T112404
CREATED:20240618T101732Z
LAST-MODIFIED:20240618T102556Z
UID:1107-1723939200-1724025599@slacklinedubai.com
SUMMARY:Slackline Retreat
DESCRIPTION:Join our unique retreat that combines slacklining\, aerial silks\, and sound healing. Experience the thrill of balancing on a slackline\, the grace of aerial silks\, and the tranquility of sound healing. This retreat offers a holistic approach to fitness and wellness\, providing a fun and rejuvenating escape in a beautiful natural setting.
URL:https://slacklinedubai.com/event/slackline-retreat/
ATTACH;FMTTYPE=image/jpeg:https://slacklinedubai.com/wp-content/uploads/2024/05/02-scaled.jpg
END:VEVENT
BEGIN:VEVENT
DTSTART;TZID=UTC:20240425T080000
DTEND;TZID=UTC:20240502T170000
DTSTAMP:20260420T112404
CREATED:20240422T173531Z
LAST-MODIFIED:20240423T174043Z
UID:663-1714032000-1714669200@slacklinedubai.com
SUMMARY:Waterlining
DESCRIPTION:Test your balance and agility on a slackline suspended over water\, adding an extra element of excitement and challenge to your practice.
URL:https://slacklinedubai.com/event/waterlining/
LOCATION:Sharjah\, Street 2\, block 7\, Sharjah\, Sharjah\, 34557\, Pakistan
ATTACH;FMTTYPE=image/jpeg:https://slacklinedubai.com/wp-content/uploads/2024/04/IMG_5162-min-1.jpg
END:VEVENT
BEGIN:VEVENT
DTSTART;TZID=UTC:20240424T080000
DTEND;TZID=UTC:20240428T170000
DTSTAMP:20260420T112404
CREATED:20240422T172354Z
LAST-MODIFIED:20240423T174053Z
UID:659-1713945600-1714323600@slacklinedubai.com
SUMMARY:Wind Slacklining
DESCRIPTION:Embrace the challenge of slacklining in gusty conditions\, honing your ability to adapt and maintain control in varying wind speeds.
URL:https://slacklinedubai.com/event/wind-slacklining/
LOCATION:Sharjah\, Street 2\, block 7\, Sharjah\, Sharjah\, 34557\, Pakistan
ATTACH;FMTTYPE=image/jpeg:https://slacklinedubai.com/wp-content/uploads/2024/04/IMG_0013-min-1.jpg
END:VEVENT
BEGIN:VEVENT
DTSTART;TZID=UTC:20240410T080000
DTEND;TZID=UTC:20240421T170000
DTSTAMP:20260420T112404
CREATED:20240422T175720Z
LAST-MODIFIED:20240423T174100Z
UID:685-1712736000-1713718800@slacklinedubai.com
SUMMARY:Slackline Yoga
DESCRIPTION:Find balance\, strength\, and inner peace as you integrate yoga poses and mindfulness techniques into your slackline practice\, fostering body-mind harmony.
URL:https://slacklinedubai.com/event/slackline-yoga/
LOCATION:Sharjah\, Street 2\, block 7\, Sharjah\, Sharjah\, 34557\, Pakistan
ATTACH;FMTTYPE=image/jpeg:https://slacklinedubai.com/wp-content/uploads/2024/04/IMG_5162-min-1.jpg
END:VEVENT
END:VCALENDAR